BEGIN:VCALENDAR
VERSION:2.0
PRODID:-//Miss Winkles Pet Adoption Center - ECPv6.15.20//NONSGML v1.0//EN
CALSCALE:GREGORIAN
METHOD:PUBLISH
X-WR-CALNAME:Miss Winkles Pet Adoption Center
X-ORIGINAL-URL:https://misswinkles.com
X-WR-CALDESC:Events for Miss Winkles Pet Adoption Center
REFRESH-INTERVAL;VALUE=DURATION:PT1H
X-Robots-Tag:noindex
X-PUBLISHED-TTL:PT1H
BEGIN:VTIMEZONE
TZID:America/Los_Angeles
BEGIN:DAYLIGHT
TZOFFSETFROM:-0800
TZOFFSETTO:-0700
TZNAME:PDT
DTSTART:20230312T100000
END:DAYLIGHT
BEGIN:STANDARD
TZOFFSETFROM:-0700
TZOFFSETTO:-0800
TZNAME:PST
DTSTART:20231105T090000
END:STANDARD
BEGIN:DAYLIGHT
TZOFFSETFROM:-0800
TZOFFSETTO:-0700
TZNAME:PDT
DTSTART:20240310T100000
END:DAYLIGHT
BEGIN:STANDARD
TZOFFSETFROM:-0700
TZOFFSETTO:-0800
TZNAME:PST
DTSTART:20241103T090000
END:STANDARD
BEGIN:DAYLIGHT
TZOFFSETFROM:-0800
TZOFFSETTO:-0700
TZNAME:PDT
DTSTART:20250309T100000
END:DAYLIGHT
BEGIN:STANDARD
TZOFFSETFROM:-0700
TZOFFSETTO:-0800
TZNAME:PST
DTSTART:20251102T090000
END:STANDARD
END:VTIMEZONE
BEGIN:VEVENT
DTSTART;TZID=America/Los_Angeles:20240720T090000
DTEND;TZID=America/Los_Angeles:20240720T120000
DTSTAMP:20260423T060624
CREATED:20240528T193308Z
LAST-MODIFIED:20240718T154843Z
UID:1471-1721466000-1721476800@misswinkles.com
SUMMARY:Kitten Yoga - SOLD OUT
DESCRIPTION:SOLD OUT! Join us for Kitten Yoga on Saturday\, July 20!\n\n\nTaught by Jessica Maddox\, local yoga instructor and co-founder of Wellness Revival you will get the opportunity take a yoga class with Miss Winkles kittens! Not only will that boost your endorphins\, it will help socialize these adorable kittens and build their confidence in meeting new people! \nThe class is $30 per person and all proceeds will go towards animal care for all our pets at Miss Winkles! Yoga mats and props will be provided\, but feel free to bring your own if you prefer! It is an indoor event and kittens will be present for the duration of the yoga session. Each class will be 45 minutes long. Space is limited to 15 people per session\, so sign up before spots are all gone! \nThe class will be held inside the Miss Winkles Pet Adoption Center Community Room at 85 Temperance Ave\, Clovis\, CA 93611. \n\n\nRegistration opens Friday\, May 31 and costs $30 per person. All proceeds benefit Miss Winkles pets! \nRegister
URL:https://misswinkles.com/event/kitten-yoga/
LOCATION:Miss Winkles Pet Adoption Center\, 85 N Temperance Ave\, Clovis\, CA\, 93611\, United States
ATTACH;FMTTYPE=image/jpeg:https://misswinkles.com/wp-content/uploads/2024/05/Kitten-Yoga-sold-out-1.jpg
END:VEVENT
END:VCALENDAR